BEGIN:VCALENDAR
VERSION:2.0
PRODID:icalendar-ruby
CALSCALE:GREGORIAN
METHOD:PUBLISH
BEGIN:VEVENT
DTSTAMP:20260421T231741Z
UID:81-203669@westconcordchurch.com
DTSTART:20260922T140000Z
DTEND:20260922T150000Z
CLASS:PUBLIC
CREATED:20260421T170920
DESCRIPTION:Led by Richard Reed.\nCoffee is provided!
LAST-MODIFIED:20260421T170920
LOCATION:Fellowship Hall
SUMMARY:Tuesday Morning Bible Study
URL;VALUE=URI:https://www.westconcordchurch.com/events/tuesday-morning-bibl
 e-study--81/2026-09-22
END:VEVENT
END:VCALENDAR
