BEGIN:VCALENDAR
VERSION:2.0
PRODID:icalendar-ruby
CALSCALE:GREGORIAN
METHOD:PUBLISH
BEGIN:VEVENT
DTSTAMP:20260422T010151Z
UID:81-203822@westconcordchurch.com
DTSTART:20260929T140000Z
DTEND:20260929T150000Z
CLASS:PUBLIC
CREATED:20260421T194759
DESCRIPTION:Led by Richard Reed.\nCoffee is provided!
LAST-MODIFIED:20260421T194759
LOCATION:Fellowship Hall
SUMMARY:Tuesday Morning Bible Study
URL;VALUE=URI:https://www.westconcordchurch.com/events/tuesday-morning-bibl
 e-study--81/2026-09-29
END:VEVENT
END:VCALENDAR
